BEGIN:VCALENDAR
VERSION:2.0
PRODID:-//eventon.com NONSGML v1.0//EN
CALSCALE:GREGORIAN
METHOD:PUBLISH
BEGIN:VEVENT
UID:69e4efa39bb8d
DTSTAMP:20260419T150715Z
DTSTART:20260423
DTEND:20260424
LOCATION:Accra Ghana
SUMMARY:Karnival Kingdom
DESCRIPTION:Get ready for the event of a lifetime – welcome to Karnival K
 ingdom!An electrifying&nbsp;5-day cultural takeover&nbsp;that blends the in
 fectious energy of Caribbean Carnival with the soul of Africa in an experie
 nce that will leave you breathless. This&nbsp;April 2026\,  the vibrant cit
 y of&nbsp;Accra\,  Ghana&nbsp;transforms into the ultimate&nbsp;soca paradi
 se\,  as carnival enthusiasts[..]\nhttps://socaevents.co/events/karnival-ki
 ngdom/
URL:https://socaevents.co/events/karnival-kingdom/
END:VEVENT
END:VCALENDAR