BEGIN:VCALENDAR
VERSION:2.0
PRODID:-//eventon.com NONSGML v1.0//EN
CALSCALE:GREGORIAN
METHOD:PUBLISH
BEGIN:VEVENT
UID:69e4d7226acc2
DTSTAMP:20260419T132242Z
DTSTART:20251009T200000Z
DTEND:20251010T030000Z
LOCATION:Hard Rock Cafe &amp; casino\,  1 Seminole way 1 Seminole Way\,  Davie\,  FL 33314\,  United States
SUMMARY:Happy Place
DESCRIPTION:Happy Place Serge Miami is going up!! And we doing it rooftop s
 tyle… The historic Hard Rock Cafe rooftop comes alive!!! A fete experienc
 e starring YOU featuring ME…\nhttps://socaevents.co/events/happy-place/
URL:https://socaevents.co/events/happy-place/
END:VEVENT
END:VCALENDAR