BEGIN:VCALENDAR
VERSION:2.0
PRODID:-//eventon.com NONSGML v1.0//EN
CALSCALE:GREGORIAN
METHOD:PUBLISH
BEGIN:VEVENT
UID:69e4f55e8f5e2
DTSTAMP:20260419T153142Z
DTSTART:20260604T150000Z
DTEND:20260608T030000Z
LOCATION:Playa del Inglés 10200\,  Gran Canaria\,  Spain
SUMMARY:Gran Canaria - Fete Island 2026
DESCRIPTION:WELCOME TO THE ISLAND\,  QT 2HYPE! The next name on the Fete Is
 land 2026 lineup has landed… and the vibes are about to get even hotter! 
 🌴🎶 The island is calling… and the Fete never stops! 🏝️🎉 Get
  ready for an unforgettable weekender in Gran Canaria! Join us for four[..]
 \nhttps://socaevents.co/events/gran-canaria-fete-island-2026/
URL:https://socaevents.co/events/gran-canaria-fete-island-2026/
END:VEVENT
END:VCALENDAR