BEGIN:VCALENDAR
VERSION:2.0
PRODID:-//eventon.com NONSGML v1.0//EN
CALSCALE:GREGORIAN
METHOD:PUBLISH
BEGIN:VEVENT
UID:69e4f3a636c71
DTSTAMP:20260419T152422Z
DTSTART:20260718T000000Z
DTEND:20260718T080000Z
LOCATION:South London London\,  SE17
SUMMARY:Xcstasy Jouvert 2026
DESCRIPTION:Get ready for the ultimate celebration of colour\,  rhythm\,  a
 nd pure euphoria! XCSTASY Jouvert: Where Paint\,  Water\,  and Powder Unite
 ! Beautiful people. Non-stop energy. Pure Caribbean vibes. Join us for an u
 nforgettable journey to the heart of Caribbean culture—right here in Sout
 h London\,  where the party never stops and the[..]\nhttps://socaevents.co/
 events/xcstasy-jouvert-2026/
URL:https://socaevents.co/events/xcstasy-jouvert-2026/
END:VEVENT
END:VCALENDAR