BEGIN:VCALENDAR
VERSION:2.0
PRODID:-//eventon.com NONSGML v1.0//EN
CALSCALE:GREGORIAN
METHOD:PUBLISH
BEGIN:VEVENT
UID:69e4f3f478646
DTSTAMP:20260419T152540Z
DTSTART:20260629T080000Z
DTEND:20260705T170000Z
LOCATION:Manchester United Kingdom
SUMMARY:Manchester Rum Week
DESCRIPTION:\nhttps://socaevents.co/events/manchester-rum-week/
URL:https://socaevents.co/events/manchester-rum-week/
END:VEVENT
END:VCALENDAR