BEGIN:VCALENDAR
VERSION:2.0
PRODID:-//eventon.com NONSGML v1.0//EN
CALSCALE:GREGORIAN
METHOD:PUBLISH
BEGIN:VEVENT
UID:69e4f6f9d934b
DTSTAMP:20260419T153833Z
DTSTART:20260513T220000Z
DTEND:20260514T040000Z
LOCATION:The Scala\,  Kings Cross
SUMMARY:SOCA FRENZY - Black Is D’Code - 18th Year Anniversary Fete
DESCRIPTION:We Are Starting Our Calendar Year As We Mean To Go On. Fantasti
 c Themed Nights\,  Prizes and Surprises. ARE YOU READY?Get Ready To Unleash
  Your Love For Caribbean Music At The Most Electrifying Event Of March 2026
 ! 🎉 Soca Frenzy Events Presents:BLACK IS D’CODE 18th Year Anniversary 
 Fete ON FRIDAY[..]\nhttps://socaevents.co/events/soca-frenzy-black-is-dcode
 -18th-year-anniversary-fete/
URL:https://socaevents.co/events/soca-frenzy-black-is-dcode-18th-year-anniversary-fete/
END:VEVENT
END:VCALENDAR