BEGIN:VCALENDAR
VERSION:2.0
PRODID:-//eventon.com NONSGML v1.0//EN
CALSCALE:GREGORIAN
METHOD:PUBLISH
BEGIN:VEVENT
UID:69e4f441b7c87
DTSTAMP:20260419T152657Z
DTSTART:20260524T143000Z
DTEND:20260524T220000Z
LOCATION:Boniface Hall 185 Mitcham Road\,  London\,  SW17 9PG\,  United Kingdom
SUMMARY:Guyana 60th Indepoendence
DESCRIPTION:A Day of Rhytm &amp; Unity Bring your own Drink | Food on Sale 
 | Rep Where You From with your Flag | Good Vibes From Start to Finish.\nhtt
 ps://socaevents.co/events/guyana-60th-indepoendence/
URL:https://socaevents.co/events/guyana-60th-indepoendence/
END:VEVENT
END:VCALENDAR