BEGIN:VCALENDAR
VERSION:2.0
PRODID:-//eventon.com NONSGML v1.0//EN
CALSCALE:GREGORIAN
METHOD:PUBLISH
BEGIN:VEVENT
UID:69e4dbd371974
DTSTAMP:20260419T134243Z
DTSTART:20260215T060000Z
DTEND:20260215T120000Z
LOCATION:National Academy for the Performing Arts (NAPA) Frederick Street\,  Port Of Spain\,  Trinidad And Tobago
SUMMARY:Shades
DESCRIPTION:Experience &#8217;26 Breakfast &#8211; Soca &#8211; Sunrise As 
 the sun rises over Trinidad Carnival 2026\,  Shades Experience: Breakfast S
 oca Sunrise invites you to indulge in the ultimate fusion of flavor\,  fash
 ion\,  and fete. From 6:00 AM to 12:00 PM\,  this premium breakfast event r
 edefines carnival morning luxury — a celebration[..]\nhttps://socaevents.
 co/events/shades/
URL:https://socaevents.co/events/shades/
END:VEVENT
END:VCALENDAR