BEGIN:VCALENDAR
VERSION:2.0
PRODID:-//eventon.com NONSGML v1.0//EN
CALSCALE:GREGORIAN
METHOD:PUBLISH
BEGIN:VEVENT
UID:69e4f4434f02d
DTSTAMP:20260419T152659Z
DTSTART:20260504T120000Z
DTEND:20260504T170000Z
LOCATION:Tower Millennium Pier London\,  EC3N 4DT
SUMMARY:Sunkissed - Fleur
DESCRIPTION:Your Premium Boat Party Experience IslandMas UK Presents โ๏ธ
  Sun Kissed โ๏ธ ๐ Fleur ๐ โThe Ultra Sexy Chic Boat Cruiseโ ๐
 ๐ธ Dresscode &#8211; Floral Attire\,  Chic wear\,  Brunch wear\,  Resor
 t wear โฐ Boarding Time 1:15pm\nhttps://socaevents.co/events/sunkissed-fle
 ur/
URL:https://socaevents.co/events/sunkissed-fleur/
END:VEVENT
END:VCALENDAR