BEGIN:VCALENDAR
VERSION:2.0
PRODID:-//eventon.com NONSGML v1.0//EN
CALSCALE:GREGORIAN
METHOD:PUBLISH
BEGIN:VEVENT
UID:69e4f3becf2f3
DTSTAMP:20260419T152446Z
DTSTART:20260503T170000Z
DTEND:20260503T220000Z
LOCATION:Tower Millennium Pier London\,  EC3N 4DT
SUMMARY:Summer Oasis
DESCRIPTION:Welcome to the ultimate summer escape – the annual sold out C
 aribbean boat-party filled with rum\,  fun and good music. Soca Dancehall R
 eggae Welcome to the ultimate summer escape\, &nbsp;Summer Oasis Chapter 3&
 nbsp;– the annual sold out Caribbean boat-party filled with rum\,  fun an
 d good vibes! Start the summer right with[..]\nhttps://socaevents.co/events
 /summer-oasis/
URL:https://socaevents.co/events/summer-oasis/
END:VEVENT
END:VCALENDAR