BEGIN:VCALENDAR
VERSION:2.0
PRODID:-//eventon.com NONSGML v1.0//EN
CALSCALE:GREGORIAN
METHOD:PUBLISH
BEGIN:VEVENT
UID:69e4efa246739
DTSTAMP:20260419T150714Z
DTSTART:20260430
DTEND:20260501
LOCATION:Cabaret Sauvage Paris\,  France
SUMMARY:Kes Roots Rock Soca Tour
DESCRIPTION:\nhttps://socaevents.co/events/kes-roots-rock-soca-tour/
URL:https://socaevents.co/events/kes-roots-rock-soca-tour/
END:VEVENT
END:VCALENDAR