BEGIN:VCALENDAR
VERSION:2.0
PRODID:-//eventon.com NONSGML v1.0//EN
CALSCALE:GREGORIAN
METHOD:PUBLISH
BEGIN:VEVENT
UID:69e4f3bd85ce8
DTSTAMP:20260419T152445Z
DTSTART:20260802T150000Z
DTEND:20260802T225900Z
LOCATION:Speightstown Harbour Speightstown\,  Saint Peter\,  Barbados 1246
SUMMARY:Soca Baby: Bim Sunset - Barbados
DESCRIPTION:Soca Baby Soca Baby Summer Destination 1 &#8220;Bim Sunset&#822
 1; Barbados the number one soca boat experience returns for Cropover. Sweet
  soca music through the years as we sail in the beautiful Barbados sunset. 
 Coolers allowed Tickets will be live on Tuesday March 3rd at 10am (Barbados
  time) via the battalionverse[..]\nhttps://socaevents.co/events/soca-baby-b
 im-sunset-barbados/
URL:https://socaevents.co/events/soca-baby-bim-sunset-barbados/
END:VEVENT
END:VCALENDAR