BEGIN:VCALENDAR
VERSION:2.0
PRODID:-//eventon.com NONSGML v1.0//EN
CALSCALE:GREGORIAN
METHOD:PUBLISH
BEGIN:VEVENT
UID:69e4f3bbdc761
DTSTAMP:20260419T152443Z
DTSTART:20260807T070000Z
DTEND:20260807T225900Z
LOCATION:Grenada Yacht Club Spout Point \,  Saint George's
SUMMARY:Soca Baby Spice: Grenada
DESCRIPTION:Soca Baby Spice Soca Baby Summer destination 2 &#8211; Grenada 
 The best premium boatride returns to the SPICE isle. Soca Music through the
  years Premium drinks inclusive Breakfast bites included This one is not on
 e to miss. This will be a sold out experience. Time to make some Jab Decisi
 ons.[..]\nhttps://socaevents.co/events/soca-baby-spice-grenada/
URL:https://socaevents.co/events/soca-baby-spice-grenada/
END:VEVENT
END:VCALENDAR