BEGIN:VCALENDAR
VERSION:2.0
PRODID:-//eventon.com NONSGML v1.0//EN
CALSCALE:GREGORIAN
METHOD:PUBLISH
BEGIN:VEVENT
UID:69e4f5e2048b9
DTSTAMP:20260419T153354Z
DTSTART:20260829T110000Z
DTEND:20260829T190000Z
LOCATION:TBA
SUMMARY:Dreamland Jouvert X: The Blueprint
DESCRIPTION:2026 marks ten years of Dreamland Jouvert! A decade of building
  an experience that has grown from a bold idea into one of the most recogni
 sed Jouvert events within the UK carnival calendar. Year X is not simply a
 n anniversary &#8211; it is a defining moment! The Blueprint represents t
 he foundation of Dreamland:[..]\nhttps://socaevents.co/events/dreamland-jou
 vert-x-the-blueprint/
URL:https://socaevents.co/events/dreamland-jouvert-x-the-blueprint/
END:VEVENT
END:VCALENDAR