BEGIN:VCALENDAR
VERSION:2.0
PRODID:-//eventon.com NONSGML v1.0//EN
CALSCALE:GREGORIAN
METHOD:PUBLISH
BEGIN:VEVENT
UID:69e4d70f9b669
DTSTAMP:20260419T132223Z
DTSTART:20260423
DTEND:20260424
LOCATION:TBC
SUMMARY:_Uck Work Ghana
DESCRIPTION:Get ready for the event of a lifetime\,  welcome to Karnival Ki
 ngdom!An electrifying&nbsp;5-day cultural takeover&nbsp;that blends the inf
 ectious energy of Caribbean Carnival with the soul of Africa in an experien
 ce that will leave you breathless. This&nbsp;April 2026\,  the vibrant city
  of&nbsp;Accra\,  Ghana&nbsp;transforms into the ultimate&nbsp;soca paradis
 e\,  as carnival enthusiasts from[..]\nhttps://socaevents.co/events/_uck-wo
 rk-ghana/
URL:https://socaevents.co/events/_uck-work-ghana/
END:VEVENT
END:VCALENDAR