BEGIN:VCALENDAR
VERSION:2.0
PRODID:-//eventon.com NONSGML v1.0//EN
CALSCALE:GREGORIAN
METHOD:PUBLISH
BEGIN:VEVENT
UID:69e4efa29e0de
DTSTAMP:20260419T150714Z
DTSTART:20260424T220000Z
DTEND:20260424T225900Z
LOCATION:Fire Nightclub South Lambeth Road\,  London\,  SW8 1RT\,  United Kingdom
SUMMARY:CandyLand
DESCRIPTION:Get ready for Candyland! The Soca Foam Fete\,  one of London’
 s biggest soca parties to kick off 2026. Presented by Soca Nation LDN\,  th
 is event brings non-stop soca\,  heavy bass\,  and a high-energy foam fete 
 atmosphere. Expect a packed dancefloor\,  strong Caribbean vibes\,  and a c
 rowd ready to move all[..]\nhttps://socaevents.co/events/candyland/
URL:https://socaevents.co/events/candyland/
END:VEVENT
END:VCALENDAR