BEGIN:VCALENDAR
VERSION:2.0
PRODID:-//eventon.com NONSGML v1.0//EN
CALSCALE:GREGORIAN
METHOD:PUBLISH
BEGIN:VEVENT
UID:69e4f3c680dc7
DTSTAMP:20260419T152454Z
DTSTART:20260510T130000Z
DTEND:20260510T225900Z
LOCATION:Studio 338 338 Tunnel Avenue\,  Boord Street\,  Greenwich\,  SE10 0PF\,  United Kingdom
SUMMARY:Rebel SOS
DESCRIPTION:🌞 Rebel SOS: The Call for Summer is Here 🌴🎉 Welcome to
  the Start of Summer – the ultimate day party as Rebel transforms Studio 
 338 into your Caribbean day‑party paradise. Expect the sweetest soca\,  b
 ig sound\,  rum cocktails\,  and a beautiful crowd to kick off your summer 
 in style[..]\nhttps://socaevents.co/events/rebel-sos/
URL:https://socaevents.co/events/rebel-sos/
END:VEVENT
END:VCALENDAR