BEGIN:VCALENDAR
VERSION:2.0
PRODID:-//eventon.com NONSGML v1.0//EN
CALSCALE:GREGORIAN
METHOD:PUBLISH
BEGIN:VEVENT
UID:69e4f3f477ce1
DTSTAMP:20260419T152540Z
DTSTART:20260822T140000Z
DTEND:20260822T225900Z
LOCATION:Forest Road Recreation Ground Elmbridge Road\,  Redbridge\,  Ilford\,  IG6 3SN
SUMMARY:Rebel VI
DESCRIPTION:OPERATION VI: THE POINT OF NO RETURN 🎖We are executing the m
 essiest\,  most relentless\,  and unapologetic Rebel experience the UK has 
 ever seen. If you can&#8217;t handle the paint\,  the powder\,  and the hea
 vy soca\,  turn back now. Paint ✘ Powder ✘ Soca ✅The finest DJs and H
 osts ✅Rebel Care[..]\nhttps://socaevents.co/events/rebel-vi/
URL:https://socaevents.co/events/rebel-vi/
END:VEVENT
END:VCALENDAR