BEGIN:VCALENDAR
VERSION:2.0
PRODID:-//eventon.com NONSGML v1.0//EN
CALSCALE:GREGORIAN
METHOD:PUBLISH
BEGIN:VEVENT
UID:69e4f3f5c009d
DTSTAMP:20260419T152541Z
DTSTART:20260624
DTEND:20260625
LOCATION:TBA
SUMMARY:Rebel Xscape
DESCRIPTION:\nhttps://socaevents.co/events/rebel-xscape/
URL:https://socaevents.co/events/rebel-xscape/
END:VEVENT
END:VCALENDAR