BEGIN:VCALENDAR
VERSION:2.0
PRODID:-//eventon.com NONSGML v1.0//EN
CALSCALE:GREGORIAN
METHOD:PUBLISH
BEGIN:VEVENT
UID:69e4eff7d0380
DTSTAMP:20260419T150839Z
DTSTART:20260425T210000Z
DTEND:20260425T020000Z
LOCATION:Alaska Waterloo 129 Alaska Street\,  London\,  SE1 8XE
SUMMARY:Soca 365 Groovy Edition
DESCRIPTION:The monthly Soca Session bringing you 100% soca\,  new and old 
 from every island but concentrating on 3 different islands each month! SOCA
  365 – Groovy Special! This one will have all the best groovy Soca over t
 he years with your favorite sing alongs! 100% Soca New and Old from[..]\nht
 tps://socaevents.co/events/soca-365-groovy-edition/
URL:https://socaevents.co/events/soca-365-groovy-edition/
END:VEVENT
END:VCALENDAR