BEGIN:VCALENDAR
VERSION:2.0
PRODID:-//eventon.com NONSGML v1.0//EN
CALSCALE:GREGORIAN
METHOD:PUBLISH
BEGIN:VEVENT
UID:69e4f3c67c1e2
DTSTAMP:20260419T152454Z
DTSTART:20260509T210000Z
DTEND:20260510T020000Z
LOCATION:N7 London 303 Holloway Road\,  #Unit 2\,  N7 8HS\,  London
SUMMARY:Total Bacchanal - Soca Party
DESCRIPTION:One Caribbean. Pure Soca energy. TOTAL BACCHANAL&nbsp;🎉🔥 
 One Caribbean. Pure Soca energy. On&nbsp;Saturday\,  May 9th\,  the Caribbe
 an comes together at&nbsp;Ends of London&nbsp;for a high-energy&nbsp;Soca c
 elebration&nbsp;bringing vibes from&nbsp;Trinidad &amp; Tobago\,  Grenada\,
   Barbados\,  Saint Lucia\,  Antigua\,  Saint Vincent\,  Dominica\,  and be
 yond. From&nbsp;Trini road-march anthems&nbsp;to&nbsp;Grenada Jab Jab madne
 ss\, &nbsp;Bajan sweet Soca\, &nbsp;Lucian pressure\,  and&nbsp;island-to-i
 sland carnival[..]\nhttps://socaevents.co/events/total-bacchanal-soca-party
 /
URL:https://socaevents.co/events/total-bacchanal-soca-party/
END:VEVENT
END:VCALENDAR