BEGIN:VCALENDAR
VERSION:2.0
PRODID:-//eventon.com NONSGML v1.0//EN
CALSCALE:GREGORIAN
METHOD:PUBLISH
BEGIN:VEVENT
UID:69e4f441b8931
DTSTAMP:20260419T152657Z
DTSTART:20260619
DTEND:20260620
LOCATION:Berlin Germany
SUMMARY:One Caribbean Weekend
DESCRIPTION:Celebrate Culture\,  Music and Art through: Dance ClassesPartie
 sLive PerformancesSip &amp; PaintExhibitionLive ArtFoodand the BIG &#8216;F
 ETE DE LA MUSIQUE&#8217; &#8211; Blockparty\nhttps://socaevents.co/events/o
 ne-caribbean-weekend/
URL:https://socaevents.co/events/one-caribbean-weekend/
END:VEVENT
END:VCALENDAR