BEGIN:VCALENDAR
VERSION:2.0
PRODID:-//eventon.com NONSGML v1.0//EN
CALSCALE:GREGORIAN
METHOD:PUBLISH
BEGIN:VEVENT
UID:69e4f443b4e3a
DTSTAMP:20260419T152659Z
DTSTART:20260611T150000Z
DTEND:20260611T220000Z
LOCATION:Beckton Park Stansfeld Road\,  London\,  E6 5QJ
SUMMARY:Daybreak Air - Nightfall Edition
DESCRIPTION:Get ready to vibe into the sunset at Daybreak Air – The Night
 fall Edition\,  an epic sunset Soca &amp; Island Riddim party &amp; park ja
 m! Get ready for an unforgettable night at&nbsp;Daybreak Air – Nightfall 
 For the first time ever we bring you our Sunset Soca Fete outdoors\,  in th
 e[..]\nhttps://socaevents.co/events/daybreak-air-nightfall-edition/
URL:https://socaevents.co/events/daybreak-air-nightfall-edition/
END:VEVENT
END:VCALENDAR