BEGIN:VCALENDAR
VERSION:2.0
PRODID:-//eventon.com NONSGML v1.0//EN
CALSCALE:GREGORIAN
METHOD:PUBLISH
BEGIN:VEVENT
UID:69e4f3f7489b6
DTSTAMP:20260419T152543Z
DTSTART:20260502T190000Z
DTEND:20260502T210000Z
LOCATION:The Tabernacle 34-35 Powis Square\,  London\,  W11 2AY
SUMMARY:Kaiso Lime
DESCRIPTION:Proudly Celebrating 60 Years of Notting Hill Carnival Extempo V
 ibesFree AdmissionCaribbean Food on Sale.\nhttps://socaevents.co/events/kai
 so-lime/
URL:https://socaevents.co/events/kaiso-lime/
END:VEVENT
END:VCALENDAR