BEGIN:VCALENDAR
VERSION:2.0
PRODID:-//eventon.com NONSGML v1.0//EN
CALSCALE:GREGORIAN
METHOD:PUBLISH
BEGIN:VEVENT
UID:69e4f3f66197d
DTSTAMP:20260419T152542Z
DTSTART:20260524T170000Z
DTEND:20260524T220000Z
LOCATION:Tower Millennium Pier London\,  EC3N 4DT
SUMMARY:Amnesia Sunset Cruise
DESCRIPTION:11 Years Of Remedy! Amnesia Sunset Cruise\,  Celebrating 11 Yea
 rs Of Remedy!\nhttps://socaevents.co/events/amnesia-sunset-cruise/
URL:https://socaevents.co/events/amnesia-sunset-cruise/
END:VEVENT
END:VCALENDAR